BEGIN:VCALENDAR
VERSION:2.0
PRODID:JMS Hockey
X-PUBLISHED-TTL:P1W
BEGIN:VEVENT
UID:69e7d53a5d261
DTSTART:20190205T235500Z
SEQUENCE:0
TRANSP:OPAQUE
DTEND:20190206T012500Z
URL:http://jmshockey.com/games/11786
LOCATION:Apple Valley Sports Arena
SUMMARY:Lower Level Game at Apple Valley Sports Arena
CLASS:PUBLIC
DTSTAMP:20260421T145122Z
END:VEVENT
END:VCALENDAR