BEGIN:VCALENDAR
VERSION:2.0
PRODID:JMS Hockey
X-PUBLISHED-TTL:P1W
BEGIN:VEVENT
UID:69e7ea7c3eab3
DTSTART:20190113T022000Z
SEQUENCE:0
TRANSP:OPAQUE
DTEND:20190113T032000Z
URL:http://jmshockey.com/games/11776
LOCATION:Hopkins Pavilion
SUMMARY:Novice Game at Hopkins Pavilion
CLASS:PUBLIC
DTSTAMP:20260421T162204Z
END:VEVENT
END:VCALENDAR