BEGIN:VCALENDAR
VERSION:2.0
PRODID:JMS Hockey
X-PUBLISHED-TTL:P1W
BEGIN:VEVENT
UID:69e797a483267
DTSTART:20190115T025000Z
SEQUENCE:0
TRANSP:OPAQUE
DTEND:20190115T042000Z
URL:http://jmshockey.com/games/11763
LOCATION:Doug Woog Arena (Wakota)
SUMMARY:Lower Level Game at Doug Woog Arena (Wakota)
CLASS:PUBLIC
DTSTAMP:20260421T102836Z
END:VEVENT
END:VCALENDAR