BEGIN:VCALENDAR
VERSION:2.0
PRODID:JMS Hockey
X-PUBLISHED-TTL:P1W
BEGIN:VEVENT
UID:69e7a7ce80b82
DTSTART:20190123T033000Z
SEQUENCE:0
TRANSP:OPAQUE
DTEND:20190123T050000Z
URL:http://jmshockey.com/games/11749
LOCATION:St Louis Park Rec Center
SUMMARY:Intermediate Game at St Louis Park Rec Center
CLASS:PUBLIC
DTSTAMP:20260421T113734Z
END:VEVENT
END:VCALENDAR