BEGIN:VCALENDAR
VERSION:2.0
PRODID:JMS Hockey
X-PUBLISHED-TTL:P1W
BEGIN:VEVENT
UID:69e7c37f3e969
DTSTART:20100119T034500Z
SEQUENCE:0
TRANSP:OPAQUE
DTEND:20100119T051500Z
URL:http://jmshockey.com/games/1174
LOCATION:Bloomington Ice Gardens
SUMMARY:Level 2 Game at Bloomington Ice Gardens
CLASS:PUBLIC
DTSTAMP:20260421T133543Z
END:VEVENT
END:VCALENDAR