BEGIN:VCALENDAR
VERSION:2.0
PRODID:JMS Hockey
X-PUBLISHED-TTL:P1W
BEGIN:VEVENT
UID:69e7c316c785e
DTSTART:20100119T033000Z
SEQUENCE:0
TRANSP:OPAQUE
DTEND:20100119T050000Z
URL:http://jmshockey.com/games/1173
LOCATION:Augsburg
SUMMARY:Level 4 Game at Augsburg
CLASS:PUBLIC
DTSTAMP:20260421T133358Z
END:VEVENT
END:VCALENDAR