BEGIN:VCALENDAR
VERSION:2.0
PRODID:JMS Hockey
X-PUBLISHED-TTL:P1W
BEGIN:VEVENT
UID:69e7b1411f66d
DTSTART:20190202T030000Z
SEQUENCE:0
TRANSP:OPAQUE
DTEND:20190202T043000Z
URL:http://jmshockey.com/games/11722
LOCATION:Eden Prairie Comm Ctr
SUMMARY:Intermediate Game at Eden Prairie Comm Ctr
CLASS:PUBLIC
DTSTAMP:20260421T121753Z
END:VEVENT
END:VCALENDAR