BEGIN:VCALENDAR
VERSION:2.0
PRODID:JMS Hockey
X-PUBLISHED-TTL:P1W
BEGIN:VEVENT
UID:69e79f7db3abb
DTSTART:20100119T034500Z
SEQUENCE:0
TRANSP:OPAQUE
DTEND:20100119T051500Z
URL:http://jmshockey.com/games/1172
LOCATION:Northeast Arena
SUMMARY:Level 1 Game at Northeast Arena
CLASS:PUBLIC
DTSTAMP:20260421T110205Z
END:VEVENT
END:VCALENDAR