BEGIN:VCALENDAR
VERSION:2.0
PRODID:JMS Hockey
X-PUBLISHED-TTL:P1W
BEGIN:VEVENT
UID:69e78bd040435
DTSTART:20190131T235500Z
SEQUENCE:0
TRANSP:OPAQUE
DTEND:20190201T012500Z
URL:http://jmshockey.com/games/11710
LOCATION:Apple Valley Sports Arena
SUMMARY:Intermediate Game at Apple Valley Sports Arena
CLASS:PUBLIC
DTSTAMP:20260421T093808Z
END:VEVENT
END:VCALENDAR