BEGIN:VCALENDAR
VERSION:2.0
PRODID:JMS Hockey
X-PUBLISHED-TTL:P1W
BEGIN:VEVENT
UID:69e79a62f0425
DTSTART:20181212T031500Z
SEQUENCE:0
TRANSP:OPAQUE
DTEND:20181212T044500Z
URL:http://jmshockey.com/games/11704
LOCATION:St Louis Park Rec Center
SUMMARY:Intermediate Game at St Louis Park Rec Center
CLASS:PUBLIC
DTSTAMP:20260421T104018Z
END:VEVENT
END:VCALENDAR