BEGIN:VCALENDAR
VERSION:2.0
PRODID:JMS Hockey
X-PUBLISHED-TTL:P1W
BEGIN:VEVENT
UID:69e7ba250a86a
DTSTART:20181205T033000Z
SEQUENCE:0
TRANSP:OPAQUE
DTEND:20181205T050000Z
URL:http://jmshockey.com/games/11702
LOCATION:St Louis Park Rec Center
SUMMARY:Intermediate Game at St Louis Park Rec Center
CLASS:PUBLIC
DTSTAMP:20260421T125549Z
END:VEVENT
END:VCALENDAR