BEGIN:VCALENDAR
VERSION:2.0
PRODID:JMS Hockey
X-PUBLISHED-TTL:P1W
BEGIN:VEVENT
UID:69e7d538a98fd
DTSTART:20100116T040000Z
SEQUENCE:0
TRANSP:OPAQUE
DTEND:20100116T053000Z
URL:http://jmshockey.com/games/1169
LOCATION:Eden Prairie Comm Ctr
SUMMARY:Level 4 Game at Eden Prairie Comm Ctr
CLASS:PUBLIC
DTSTAMP:20260421T145120Z
END:VEVENT
END:VCALENDAR