BEGIN:VCALENDAR
VERSION:2.0
PRODID:JMS Hockey
X-PUBLISHED-TTL:P1W
BEGIN:VEVENT
UID:69e7c36ab2628
DTSTART:20100116T033000Z
SEQUENCE:0
TRANSP:OPAQUE
DTEND:20100116T050000Z
URL:http://jmshockey.com/games/1167
LOCATION:Richfield Ice Arena
SUMMARY:Level 3 Game at Richfield Ice Arena
CLASS:PUBLIC
DTSTAMP:20260421T133522Z
END:VEVENT
END:VCALENDAR