BEGIN:VCALENDAR
VERSION:2.0
PRODID:JMS Hockey
X-PUBLISHED-TTL:P1W
BEGIN:VEVENT
UID:69e79a6111c6d
DTSTART:20181120T032000Z
SEQUENCE:0
TRANSP:OPAQUE
DTEND:20181120T045000Z
URL:http://jmshockey.com/games/11653
LOCATION:Doug Woog Arena (Wakota)
SUMMARY:Lower Level Game at Doug Woog Arena (Wakota)
CLASS:PUBLIC
DTSTAMP:20260421T104017Z
END:VEVENT
END:VCALENDAR