BEGIN:VCALENDAR
VERSION:2.0
PRODID:JMS Hockey
X-PUBLISHED-TTL:P1W
BEGIN:VEVENT
UID:69e7e7c401651
DTSTART:20181110T040000Z
SEQUENCE:0
TRANSP:OPAQUE
DTEND:20181110T053000Z
URL:http://jmshockey.com/games/11630
LOCATION:Schwan Superrink
SUMMARY:All level Game at Schwan Superrink
CLASS:PUBLIC
DTSTAMP:20260421T161028Z
END:VEVENT
END:VCALENDAR