BEGIN:VCALENDAR
VERSION:2.0
PRODID:JMS Hockey
X-PUBLISHED-TTL:P1W
BEGIN:VEVENT
UID:69e7ea542af5d
DTSTART:20181125T034000Z
SEQUENCE:0
TRANSP:OPAQUE
DTEND:20181125T051000Z
URL:http://jmshockey.com/games/11623
LOCATION:St Thomas Ice Arena
SUMMARY:All level Game at St Thomas Ice Arena
CLASS:PUBLIC
DTSTAMP:20260421T162124Z
END:VEVENT
END:VCALENDAR