BEGIN:VCALENDAR
VERSION:2.0
PRODID:JMS Hockey
X-PUBLISHED-TTL:P1W
BEGIN:VEVENT
UID:69e79a30e04b7
DTSTART:20181211T034000Z
SEQUENCE:0
TRANSP:OPAQUE
DTEND:20181211T051000Z
URL:http://jmshockey.com/games/11610
LOCATION:St Thomas Ice Arena
SUMMARY:Intermediate Game at St Thomas Ice Arena
CLASS:PUBLIC
DTSTAMP:20260421T103928Z
END:VEVENT
END:VCALENDAR