BEGIN:VCALENDAR
VERSION:2.0
PRODID:JMS Hockey
X-PUBLISHED-TTL:P1W
BEGIN:VEVENT
UID:69e789f3a910b
DTSTART:20181113T034000Z
SEQUENCE:0
TRANSP:OPAQUE
DTEND:20181113T051000Z
URL:http://jmshockey.com/games/11606
LOCATION:St Thomas Ice Arena
SUMMARY:Intermediate Game at St Thomas Ice Arena
CLASS:PUBLIC
DTSTAMP:20260421T093011Z
END:VEVENT
END:VCALENDAR