BEGIN:VCALENDAR
VERSION:2.0
PRODID:JMS Hockey
X-PUBLISHED-TTL:P1W
BEGIN:VEVENT
UID:69e7963012930
DTSTART:20181214T033000Z
SEQUENCE:0
TRANSP:OPAQUE
DTEND:20181214T050000Z
URL:http://jmshockey.com/games/11553
LOCATION:Apple Valley Sports Arena
SUMMARY:Intermediate Game at Apple Valley Sports Arena
CLASS:PUBLIC
DTSTAMP:20260421T102224Z
END:VEVENT
END:VCALENDAR