BEGIN:VCALENDAR
VERSION:2.0
PRODID:JMS Hockey
X-PUBLISHED-TTL:P1W
BEGIN:VEVENT
UID:69e7d52a2dec6
DTSTART:20181116T033000Z
SEQUENCE:0
TRANSP:OPAQUE
DTEND:20181116T050000Z
URL:http://jmshockey.com/games/11551
LOCATION:Apple Valley Sports Arena
SUMMARY:Intermediate Game at Apple Valley Sports Arena
CLASS:PUBLIC
DTSTAMP:20260421T145106Z
END:VEVENT
END:VCALENDAR