BEGIN:VCALENDAR
VERSION:2.0
PRODID:JMS Hockey
X-PUBLISHED-TTL:P1W
BEGIN:VEVENT
UID:69e7cbaea2dd6
DTSTART:20181031T014500Z
SEQUENCE:0
TRANSP:OPAQUE
DTEND:20181031T031500Z
URL:http://jmshockey.com/games/11538
LOCATION:Eden Prairie Comm Ctr
SUMMARY:Upper Level Game at Eden Prairie Comm Ctr
CLASS:PUBLIC
DTSTAMP:20260421T141038Z
END:VEVENT
END:VCALENDAR