BEGIN:VCALENDAR
VERSION:2.0
PRODID:JMS Hockey
X-PUBLISHED-TTL:P1W
BEGIN:VEVENT
UID:69e7adef94343
DTSTART:20181024T014500Z
SEQUENCE:0
TRANSP:OPAQUE
DTEND:20181024T031500Z
URL:http://jmshockey.com/games/11537
LOCATION:Eden Prairie Comm Ctr
SUMMARY:Upper Level Game at Eden Prairie Comm Ctr
CLASS:PUBLIC
DTSTAMP:20260421T120343Z
END:VEVENT
END:VCALENDAR