BEGIN:VCALENDAR
VERSION:2.0
PRODID:JMS Hockey
X-PUBLISHED-TTL:P1W
BEGIN:VEVENT
UID:69e785c1eb23f
DTSTART:20181005T021000Z
SEQUENCE:0
TRANSP:OPAQUE
DTEND:20181005T034000Z
URL:http://jmshockey.com/games/11505
LOCATION:Woodbury Bielenberg
SUMMARY:Lower Level Game at Woodbury Bielenberg
CLASS:PUBLIC
DTSTAMP:20260421T091217Z
END:VEVENT
END:VCALENDAR