BEGIN:VCALENDAR
VERSION:2.0
PRODID:JMS Hockey
X-PUBLISHED-TTL:P1W
BEGIN:VEVENT
UID:69e9d783188f4
DTSTART:20100109T040000Z
SEQUENCE:0
TRANSP:OPAQUE
DTEND:20100109T053000Z
URL:http://jmshockey.com/games/1149
LOCATION:Eden Prairie Comm Ctr
SUMMARY:Level 4 Game at Eden Prairie Comm Ctr
CLASS:PUBLIC
DTSTAMP:20260423T032539Z
END:VEVENT
END:VCALENDAR