BEGIN:VCALENDAR
VERSION:2.0
PRODID:JMS Hockey
X-PUBLISHED-TTL:P1W
BEGIN:VEVENT
UID:69e7732e17ed0
DTSTART:20181020T023000Z
SEQUENCE:0
TRANSP:OPAQUE
DTEND:20181020T040000Z
URL:http://jmshockey.com/games/11487
LOCATION:St Louis Park Rec Center
SUMMARY:Lower Level Game at St Louis Park Rec Center
CLASS:PUBLIC
DTSTAMP:20260421T075302Z
END:VEVENT
END:VCALENDAR