BEGIN:VCALENDAR
VERSION:2.0
PRODID:JMS Hockey
X-PUBLISHED-TTL:P1W
BEGIN:VEVENT
UID:69e787fb2da20
DTSTART:20181003T014500Z
SEQUENCE:0
TRANSP:OPAQUE
DTEND:20181003T031500Z
URL:http://jmshockey.com/games/11480
LOCATION:St Louis Park Rec Center
SUMMARY:Lower Level Game at St Louis Park Rec Center
CLASS:PUBLIC
DTSTAMP:20260421T092147Z
END:VEVENT
END:VCALENDAR