BEGIN:VCALENDAR
VERSION:2.0
PRODID:JMS Hockey
X-PUBLISHED-TTL:P1W
BEGIN:VEVENT
UID:69e78e16e3397
DTSTART:20181031T013000Z
SEQUENCE:0
TRANSP:OPAQUE
DTEND:20181031T030000Z
URL:http://jmshockey.com/games/11462
LOCATION:Maple Grove
SUMMARY:Intermediate Game at Maple Grove
CLASS:PUBLIC
DTSTAMP:20260421T094750Z
END:VEVENT
END:VCALENDAR