BEGIN:VCALENDAR
VERSION:2.0
PRODID:JMS Hockey
X-PUBLISHED-TTL:P1W
BEGIN:VEVENT
UID:69e79a60dc5cb
DTSTART:20181024T021500Z
SEQUENCE:0
TRANSP:OPAQUE
DTEND:20181024T034500Z
URL:http://jmshockey.com/games/11459
LOCATION:Maple Grove
SUMMARY:Intermediate Game at Maple Grove
CLASS:PUBLIC
DTSTAMP:20260421T104016Z
END:VEVENT
END:VCALENDAR