BEGIN:VCALENDAR
VERSION:2.0
PRODID:JMS Hockey
X-PUBLISHED-TTL:P1W
BEGIN:VEVENT
UID:69e7ba2402ea6
DTSTART:20181003T023000Z
SEQUENCE:0
TRANSP:OPAQUE
DTEND:20181003T040000Z
URL:http://jmshockey.com/games/11458
LOCATION:Maple Grove
SUMMARY:Intermediate Game at Maple Grove
CLASS:PUBLIC
DTSTAMP:20260421T125548Z
END:VEVENT
END:VCALENDAR