BEGIN:VCALENDAR
VERSION:2.0
PRODID:JMS Hockey
X-PUBLISHED-TTL:P1W
BEGIN:VEVENT
UID:69e78803598d7
DTSTART:20181031T023000Z
SEQUENCE:0
TRANSP:OPAQUE
DTEND:20181031T040000Z
URL:http://jmshockey.com/games/11450
LOCATION:Apple Valley Sports Arena
SUMMARY:Lower Level Game at Apple Valley Sports Arena
CLASS:PUBLIC
DTSTAMP:20260421T092155Z
END:VEVENT
END:VCALENDAR