BEGIN:VCALENDAR
VERSION:2.0
PRODID:JMS Hockey
X-PUBLISHED-TTL:P1W
BEGIN:VEVENT
UID:69e7959aa1d2d
DTSTART:20181002T023000Z
SEQUENCE:0
TRANSP:OPAQUE
DTEND:20181002T040000Z
URL:http://jmshockey.com/games/11432
LOCATION:Doug Woog Arena (Wakota)
SUMMARY:Lower Level Game at Doug Woog Arena (Wakota)
CLASS:PUBLIC
DTSTAMP:20260421T101954Z
END:VEVENT
END:VCALENDAR