BEGIN:VCALENDAR
VERSION:2.0
PRODID:JMS Hockey
X-PUBLISHED-TTL:P1W
BEGIN:VEVENT
UID:69e7af5d1e9f9
DTSTART:20180928T021000Z
SEQUENCE:0
TRANSP:OPAQUE
DTEND:20180928T034000Z
URL:http://jmshockey.com/games/11418
LOCATION:Woodbury Bielenberg
SUMMARY:Lower Level Game at Woodbury Bielenberg
CLASS:PUBLIC
DTSTAMP:20260421T120949Z
END:VEVENT
END:VCALENDAR