BEGIN:VCALENDAR
VERSION:2.0
PRODID:JMS Hockey
X-PUBLISHED-TTL:P1W
BEGIN:VEVENT
UID:69e7ae13288c3
DTSTART:20180914T024000Z
SEQUENCE:0
TRANSP:OPAQUE
DTEND:20180914T041000Z
URL:http://jmshockey.com/games/11411
LOCATION:St Thomas Ice Arena
SUMMARY:All level Game at St Thomas Ice Arena
CLASS:PUBLIC
DTSTAMP:20260421T120419Z
END:VEVENT
END:VCALENDAR