BEGIN:VCALENDAR
VERSION:2.0
PRODID:JMS Hockey
X-PUBLISHED-TTL:P1W
BEGIN:VEVENT
UID:69e781a535d14
DTSTART:20180922T024500Z
SEQUENCE:0
TRANSP:OPAQUE
DTEND:20180922T041500Z
URL:http://jmshockey.com/games/11406
LOCATION:St Louis Park Rec Center
SUMMARY:Novice Game at St Louis Park Rec Center
CLASS:PUBLIC
DTSTAMP:20260421T085445Z
END:VEVENT
END:VCALENDAR