BEGIN:VCALENDAR
VERSION:2.0
PRODID:JMS Hockey
X-PUBLISHED-TTL:P1W
BEGIN:VEVENT
UID:69e7773f0b7db
DTSTART:20180915T014500Z
SEQUENCE:0
TRANSP:OPAQUE
DTEND:20180915T031500Z
URL:http://jmshockey.com/games/11405
LOCATION:St Louis Park Rec Center
SUMMARY:Novice Game at St Louis Park Rec Center
CLASS:PUBLIC
DTSTAMP:20260421T081023Z
END:VEVENT
END:VCALENDAR