BEGIN:VCALENDAR
VERSION:2.0
PRODID:JMS Hockey
X-PUBLISHED-TTL:P1W
BEGIN:VEVENT
UID:69e8037874014
DTSTART:20081029T023000Z
SEQUENCE:0
TRANSP:OPAQUE
DTEND:20081029T040000Z
URL:http://jmshockey.com/games/114
LOCATION:St Louis Park Rec Center
SUMMARY:Level 4 Game at St Louis Park Rec Center
CLASS:PUBLIC
DTSTAMP:20260421T180840Z
END:VEVENT
END:VCALENDAR