BEGIN:VCALENDAR
VERSION:2.0
PRODID:JMS Hockey
X-PUBLISHED-TTL:P1W
BEGIN:VEVENT
UID:69e7c74901990
DTSTART:20100107T041500Z
SEQUENCE:0
TRANSP:OPAQUE
DTEND:20100107T054500Z
URL:http://jmshockey.com/games/1138
LOCATION:Highland Arena
SUMMARY:Level 2 Game at Highland Arena
CLASS:PUBLIC
DTSTAMP:20260421T135153Z
END:VEVENT
END:VCALENDAR