BEGIN:VCALENDAR
VERSION:2.0
PRODID:JMS Hockey
X-PUBLISHED-TTL:P1W
BEGIN:VEVENT
UID:69e78b8d6b028
DTSTART:20180919T021500Z
SEQUENCE:0
TRANSP:OPAQUE
DTEND:20180919T034500Z
URL:http://jmshockey.com/games/11377
LOCATION:Maple Grove
SUMMARY:Intermediate Game at Maple Grove
CLASS:PUBLIC
DTSTAMP:20260421T093701Z
END:VEVENT
END:VCALENDAR