BEGIN:VCALENDAR
VERSION:2.0
PRODID:JMS Hockey
X-PUBLISHED-TTL:P1W
BEGIN:VEVENT
UID:69e795ef0e72c
DTSTART:20180921T021500Z
SEQUENCE:0
TRANSP:OPAQUE
DTEND:20180921T034500Z
URL:http://jmshockey.com/games/11368
LOCATION:Apple Valley Hayes Park Arena
SUMMARY:Intermediate Game at Apple Valley Hayes Park Arena
CLASS:PUBLIC
DTSTAMP:20260421T102119Z
END:VEVENT
END:VCALENDAR