BEGIN:VCALENDAR
VERSION:2.0
PRODID:JMS Hockey
X-PUBLISHED-TTL:P1W
BEGIN:VEVENT
UID:69e78bd02fc05
DTSTART:20180907T010000Z
SEQUENCE:0
TRANSP:OPAQUE
DTEND:20180907T023000Z
URL:http://jmshockey.com/games/11365
LOCATION:Apple Valley Hayes Park Arena
SUMMARY:Intermediate Game at Apple Valley Hayes Park Arena
CLASS:PUBLIC
DTSTAMP:20260421T093808Z
END:VEVENT
END:VCALENDAR