BEGIN:VCALENDAR
VERSION:2.0
PRODID:JMS Hockey
X-PUBLISHED-TTL:P1W
BEGIN:VEVENT
UID:69e7adc4b8049
DTSTART:20180808T021500Z
SEQUENCE:0
TRANSP:OPAQUE
DTEND:20180808T034500Z
URL:http://jmshockey.com/games/11340
LOCATION:Eden Prairie Comm Ctr
SUMMARY:Upper Level Game at Eden Prairie Comm Ctr
CLASS:PUBLIC
DTSTAMP:20260421T120300Z
END:VEVENT
END:VCALENDAR