BEGIN:VCALENDAR
VERSION:2.0
PRODID:JMS Hockey
X-PUBLISHED-TTL:P1W
BEGIN:VEVENT
UID:69e7a93e7a8c4
DTSTART:20180725T021500Z
SEQUENCE:0
TRANSP:OPAQUE
DTEND:20180725T034500Z
URL:http://jmshockey.com/games/11338
LOCATION:Eden Prairie Comm Ctr
SUMMARY:Upper Level Game at Eden Prairie Comm Ctr
CLASS:PUBLIC
DTSTAMP:20260421T114342Z
END:VEVENT
END:VCALENDAR