BEGIN:VCALENDAR
VERSION:2.0
PRODID:JMS Hockey
X-PUBLISHED-TTL:P1W
BEGIN:VEVENT
UID:69e7ba14f0bc9
DTSTART:20180720T011500Z
SEQUENCE:0
TRANSP:OPAQUE
DTEND:20180720T024500Z
URL:http://jmshockey.com/games/11322
LOCATION:Woodbury Bielenberg
SUMMARY:Lower Level Game at Woodbury Bielenberg
CLASS:PUBLIC
DTSTAMP:20260421T125532Z
END:VEVENT
END:VCALENDAR