BEGIN:VCALENDAR
VERSION:2.0
PRODID:JMS Hockey
X-PUBLISHED-TTL:P1W
BEGIN:VEVENT
UID:69e7b12e160aa
DTSTART:20180713T011500Z
SEQUENCE:0
TRANSP:OPAQUE
DTEND:20180713T024500Z
URL:http://jmshockey.com/games/11321
LOCATION:Woodbury Bielenberg
SUMMARY:Lower Level Game at Woodbury Bielenberg
CLASS:PUBLIC
DTSTAMP:20260421T121734Z
END:VEVENT
END:VCALENDAR