BEGIN:VCALENDAR
VERSION:2.0
PRODID:JMS Hockey
X-PUBLISHED-TTL:P1W
BEGIN:VEVENT
UID:69e7c6e50cbb9
DTSTART:20100105T040000Z
SEQUENCE:0
TRANSP:OPAQUE
DTEND:20100105T053000Z
URL:http://jmshockey.com/games/1132
LOCATION:Hopkins Pavilion
SUMMARY:Level 1 Game at Hopkins Pavilion
CLASS:PUBLIC
DTSTAMP:20260421T135013Z
END:VEVENT
END:VCALENDAR