BEGIN:VCALENDAR
VERSION:2.0
PRODID:JMS Hockey
X-PUBLISHED-TTL:P1W
BEGIN:VEVENT
UID:69e7af7fd6da6
DTSTART:20180814T023000Z
SEQUENCE:0
TRANSP:OPAQUE
DTEND:20180814T040000Z
URL:http://jmshockey.com/games/11300
LOCATION:Doug Woog Arena (Wakota)
SUMMARY:Lower Level Game at Doug Woog Arena (Wakota)
CLASS:PUBLIC
DTSTAMP:20260421T121023Z
END:VEVENT
END:VCALENDAR