BEGIN:VCALENDAR
VERSION:2.0
PRODID:JMS Hockey
X-PUBLISHED-TTL:P1W
BEGIN:VEVENT
UID:69e78597e67bf
DTSTART:20180703T010000Z
SEQUENCE:0
TRANSP:OPAQUE
DTEND:20180703T023000Z
URL:http://jmshockey.com/games/11294
LOCATION:Doug Woog Arena (Wakota)
SUMMARY:Lower Level Game at Doug Woog Arena (Wakota)
CLASS:PUBLIC
DTSTAMP:20260421T091135Z
END:VEVENT
END:VCALENDAR