BEGIN:VCALENDAR
VERSION:2.0
PRODID:JMS Hockey
X-PUBLISHED-TTL:P1W
BEGIN:VEVENT
UID:69e7879f5303a
DTSTART:20180712T000000Z
SEQUENCE:0
TRANSP:OPAQUE
DTEND:20180712T012500Z
URL:http://jmshockey.com/games/11286
LOCATION:Tartan Arena
SUMMARY:Lower Level Game at Tartan Arena
CLASS:PUBLIC
DTSTAMP:20260421T092015Z
END:VEVENT
END:VCALENDAR