BEGIN:VCALENDAR
VERSION:2.0
PRODID:JMS Hockey
X-PUBLISHED-TTL:P1W
BEGIN:VEVENT
UID:69e7b58f68172
DTSTART:20100109T040000Z
SEQUENCE:0
TRANSP:OPAQUE
DTEND:20100109T053000Z
URL:http://jmshockey.com/games/1128
LOCATION:Richfield Ice Arena
SUMMARY:Level 1 Game at Richfield Ice Arena
CLASS:PUBLIC
DTSTAMP:20260421T123615Z
END:VEVENT
END:VCALENDAR