BEGIN:VCALENDAR
VERSION:2.0
PRODID:JMS Hockey
X-PUBLISHED-TTL:P1W
BEGIN:VEVENT
UID:69e78195cd909
DTSTART:20180728T000000Z
SEQUENCE:0
TRANSP:OPAQUE
DTEND:20180728T013000Z
URL:http://jmshockey.com/games/11271
LOCATION:St Louis Park Rec Center
SUMMARY:Novice Game at St Louis Park Rec Center
CLASS:PUBLIC
DTSTAMP:20260421T085429Z
END:VEVENT
END:VCALENDAR